BEGIN:VCALENDAR
VERSION:2.0
PRODID:-//Sport Manawatu - ECPv4.9.4//NONSGML v1.0//EN
CALSCALE:GREGORIAN
METHOD:PUBLISH
X-WR-CALNAME:Sport Manawatu
X-ORIGINAL-URL:https://www.sportmanawatu.org.nz
X-WR-CALDESC:Events for Sport Manawatu
BEGIN:VTIMEZONE
TZID:"Pacific/Auckland"
BEGIN:STANDARD
TZOFFSETFROM:+1300
TZOFFSETTO:+1200
TZNAME:NZST
DTSTART:20200404T140000
END:STANDARD
BEGIN:DAYLIGHT
TZOFFSETFROM:+1200
TZOFFSETTO:+1300
TZNAME:NZDT
DTSTART:20200926T140000
END:DAYLIGHT
END:VTIMEZONE
BEGIN:VEVENT
DTSTART;TZID="Pacific/Auckland":20200210T163000
DTEND;TZID="Pacific/Auckland":20200210T200000
DTSTAMP:20191217T153452
CREATED:20191128T230333Z
LAST-MODIFIED:20191128T230534Z
UID:34397-1581352200-1581364800@www.sportmanawatu.org.nz
SUMMARY:Crank It Specialised I Tri'd the Tri Series
DESCRIPTION:The Crank It Specialised I Tri’d the Tri Series is for kids 4 – 12 years old. \nThe series dates are (all Monday’s):\n10 Feb\n17 Feb\n24 Feb\n2 Mar\n9 Mar \nRegister here \nCOURSE DISTANCES\n4-6 years 300 m run / 600 m cycle / 1 length swim*\n7 year olds 750 m run / 1.5 km cycle / 25 m swim\n8-9 years 750 m run / 1.5 km cycle / 50 m swim\n10-12 years 1.5 km run / 3 km cycle / 100 m swim\n*Freyberg indoor teaching pool. \n  \nAll event info is on the Manawatu Triathlon Club website. \nTo find out more please call Andy & Lenka 021 0349989 or Deb 027 4390651 \n
URL:https://www.sportmanawatu.org.nz/event/crank-it-specialised-i-trid-the-tri-series/2020-02-10/
LOCATION:Skoglund Park\, Thames Street\, Roslyn\, Palmerston North\, 4414\, New Zealand
CATEGORIES:Supported Events
ATTACH;FMTTYPE=image/jpeg:https://www.sportmanawatu.org.nz/wp-content/uploads/2019/11/Kids-Tri-Poster-2.jpg
END:VEVENT
BEGIN:VEVENT
DTSTART;TZID="Pacific/Auckland":20200212T180000
DTEND;TZID="Pacific/Auckland":20200212T200000
DTSTAMP:20191217T153452
CREATED:20190920T020915Z
LAST-MODIFIED:20191128T011209Z
UID:33459-1581530400-1581537600@www.sportmanawatu.org.nz
SUMMARY:W.I.C.K.E.D. Programme
DESCRIPTION:The WICKED Programme (Women Inclusive Coaching Keeping Engaged in Development) is a new programme from Sport Manawatu that aims to support the ongoing development of female coaches. \nThis new workshop series is designed by female coaches for female coaches. The programme is designed to support coaches continued education and self awareness\, as well as\, offer opportunities for mentoring and networking with other female coaches in the Manawatu. \nThis is open to coaches from grassroots to performance. \nDates and Topics\nFebruary 12: Goods Sports Coaching \nMarch 25: Building Resilience \n\nCost\nThe programme costs $25 (one-off cost for all four sessions) and includes extra goodies for participants. \nPast sessions \nOctober 16: Games based coaching approaches\nNovember 27: Building your coaching capability \n
URL:https://www.sportmanawatu.org.nz/event/wickedprogramme/
LOCATION:Manawatu\, New Zealand
CATEGORIES:Sport Manawatu
ATTACH;FMTTYPE=image/jpeg:https://www.sportmanawatu.org.nz/wp-content/uploads/2019/09/WICKED-Feature.jpg
ORGANIZER;CN="Jason%20Fletcher":MAILTO:jasonf@sportmanawatu.org.nz
END:VEVENT
BEGIN:VEVENT
DTSTART;TZID="Pacific/Auckland":20200214T163000
DTEND;TZID="Pacific/Auckland":20200214T200000
DTSTAMP:20191217T153452
CREATED:20191128T230333Z
LAST-MODIFIED:20191128T230333Z
UID:34401-1581697800-1581710400@www.sportmanawatu.org.nz
SUMMARY:Crank It Specialised I Tri'd the Tri Series
DESCRIPTION:The Crank It Specialised I Tri’d the Tri Series is for kids 4 – 12 years old. \nThe series dates are (all Monday’s):\n10 Feb\n17 Feb\n24 Feb\n2 Mar\n9 Mar \nRegister here \nCOURSE DISTANCES\n4-6 years 300 m run / 600 m cycle / 1 length swim*\n7 year olds 750 m run / 1.5 km cycle / 25 m swim\n8-9 years 750 m run / 1.5 km cycle / 50 m swim\n10-12 years 1.5 km run / 3 km cycle / 100 m swim\n*Freyberg indoor teaching pool. \n  \nAll event info is on the Manawatu Triathlon Club website. \nTo find out more please call Andy & Lenka 021 0349989 or Deb 027 4390651 \n
URL:https://www.sportmanawatu.org.nz/event/crank-it-specialised-i-trid-the-tri-series/2020-02-14/
LOCATION:Skoglund Park\, Thames Street\, Roslyn\, Palmerston North\, 4414\, New Zealand
CATEGORIES:Supported Events
ATTACH;FMTTYPE=image/jpeg:https://www.sportmanawatu.org.nz/wp-content/uploads/2019/11/Kids-Tri-Poster-2.jpg
END:VEVENT
BEGIN:VEVENT
DTSTART;TZID="Pacific/Auckland":20200217T163000
DTEND;TZID="Pacific/Auckland":20200217T200000
DTSTAMP:20191217T153452
CREATED:20191128T230333Z
LAST-MODIFIED:20191128T230333Z
UID:34402-1581957000-1581969600@www.sportmanawatu.org.nz
SUMMARY:Crank It Specialised I Tri'd the Tri Series
DESCRIPTION:The Crank It Specialised I Tri’d the Tri Series is for kids 4 – 12 years old. \nThe series dates are (all Monday’s):\n10 Feb\n17 Feb\n24 Feb\n2 Mar\n9 Mar \nRegister here \nCOURSE DISTANCES\n4-6 years 300 m run / 600 m cycle / 1 length swim*\n7 year olds 750 m run / 1.5 km cycle / 25 m swim\n8-9 years 750 m run / 1.5 km cycle / 50 m swim\n10-12 years 1.5 km run / 3 km cycle / 100 m swim\n*Freyberg indoor teaching pool. \n  \nAll event info is on the Manawatu Triathlon Club website. \nTo find out more please call Andy & Lenka 021 0349989 or Deb 027 4390651 \n
URL:https://www.sportmanawatu.org.nz/event/crank-it-specialised-i-trid-the-tri-series/2020-02-17/
LOCATION:Skoglund Park\, Thames Street\, Roslyn\, Palmerston North\, 4414\, New Zealand
CATEGORIES:Supported Events
ATTACH;FMTTYPE=image/jpeg:https://www.sportmanawatu.org.nz/wp-content/uploads/2019/11/Kids-Tri-Poster-2.jpg
END:VEVENT
BEGIN:VEVENT
DTSTART;TZID="Pacific/Auckland":20200221T163000
DTEND;TZID="Pacific/Auckland":20200221T200000
DTSTAMP:20191217T153452
CREATED:20191128T230333Z
LAST-MODIFIED:20191128T230333Z
UID:34403-1582302600-1582315200@www.sportmanawatu.org.nz
SUMMARY:Crank It Specialised I Tri'd the Tri Series
DESCRIPTION:The Crank It Specialised I Tri’d the Tri Series is for kids 4 – 12 years old. \nThe series dates are (all Monday’s):\n10 Feb\n17 Feb\n24 Feb\n2 Mar\n9 Mar \nRegister here \nCOURSE DISTANCES\n4-6 years 300 m run / 600 m cycle / 1 length swim*\n7 year olds 750 m run / 1.5 km cycle / 25 m swim\n8-9 years 750 m run / 1.5 km cycle / 50 m swim\n10-12 years 1.5 km run / 3 km cycle / 100 m swim\n*Freyberg indoor teaching pool. \n  \nAll event info is on the Manawatu Triathlon Club website. \nTo find out more please call Andy & Lenka 021 0349989 or Deb 027 4390651 \n
URL:https://www.sportmanawatu.org.nz/event/crank-it-specialised-i-trid-the-tri-series/2020-02-21/
LOCATION:Skoglund Park\, Thames Street\, Roslyn\, Palmerston North\, 4414\, New Zealand
CATEGORIES:Supported Events
ATTACH;FMTTYPE=image/jpeg:https://www.sportmanawatu.org.nz/wp-content/uploads/2019/11/Kids-Tri-Poster-2.jpg
END:VEVENT
BEGIN:VEVENT
DTSTART;TZID="Pacific/Auckland":20200224T163000
DTEND;TZID="Pacific/Auckland":20200224T200000
DTSTAMP:20191217T153452
CREATED:20191128T230333Z
LAST-MODIFIED:20191128T230333Z
UID:34404-1582561800-1582574400@www.sportmanawatu.org.nz
SUMMARY:Crank It Specialised I Tri'd the Tri Series
DESCRIPTION:The Crank It Specialised I Tri’d the Tri Series is for kids 4 – 12 years old. \nThe series dates are (all Monday’s):\n10 Feb\n17 Feb\n24 Feb\n2 Mar\n9 Mar \nRegister here \nCOURSE DISTANCES\n4-6 years 300 m run / 600 m cycle / 1 length swim*\n7 year olds 750 m run / 1.5 km cycle / 25 m swim\n8-9 years 750 m run / 1.5 km cycle / 50 m swim\n10-12 years 1.5 km run / 3 km cycle / 100 m swim\n*Freyberg indoor teaching pool. \n  \nAll event info is on the Manawatu Triathlon Club website. \nTo find out more please call Andy & Lenka 021 0349989 or Deb 027 4390651 \n
URL:https://www.sportmanawatu.org.nz/event/crank-it-specialised-i-trid-the-tri-series/2020-02-24/
LOCATION:Skoglund Park\, Thames Street\, Roslyn\, Palmerston North\, 4414\, New Zealand
CATEGORIES:Supported Events
ATTACH;FMTTYPE=image/jpeg:https://www.sportmanawatu.org.nz/wp-content/uploads/2019/11/Kids-Tri-Poster-2.jpg
END:VEVENT
BEGIN:VEVENT
DTSTART;TZID="Pacific/Auckland":20200228T163000
DTEND;TZID="Pacific/Auckland":20200228T200000
DTSTAMP:20191217T153452
CREATED:20191128T230333Z
LAST-MODIFIED:20191128T230333Z
UID:34405-1582907400-1582920000@www.sportmanawatu.org.nz
SUMMARY:Crank It Specialised I Tri'd the Tri Series
DESCRIPTION:The Crank It Specialised I Tri’d the Tri Series is for kids 4 – 12 years old. \nThe series dates are (all Monday’s):\n10 Feb\n17 Feb\n24 Feb\n2 Mar\n9 Mar \nRegister here \nCOURSE DISTANCES\n4-6 years 300 m run / 600 m cycle / 1 length swim*\n7 year olds 750 m run / 1.5 km cycle / 25 m swim\n8-9 years 750 m run / 1.5 km cycle / 50 m swim\n10-12 years 1.5 km run / 3 km cycle / 100 m swim\n*Freyberg indoor teaching pool. \n  \nAll event info is on the Manawatu Triathlon Club website. \nTo find out more please call Andy & Lenka 021 0349989 or Deb 027 4390651 \n
URL:https://www.sportmanawatu.org.nz/event/crank-it-specialised-i-trid-the-tri-series/2020-02-28/
LOCATION:Skoglund Park\, Thames Street\, Roslyn\, Palmerston North\, 4414\, New Zealand
CATEGORIES:Supported Events
ATTACH;FMTTYPE=image/jpeg:https://www.sportmanawatu.org.nz/wp-content/uploads/2019/11/Kids-Tri-Poster-2.jpg
END:VEVENT
BEGIN:VEVENT
DTSTART;TZID="Pacific/Auckland":20200229T080000
DTEND;TZID="Pacific/Auckland":20200229T170000
DTSTAMP:20191217T153452
CREATED:20191105T022854Z
LAST-MODIFIED:20191204T000612Z
UID:34117-1582963200-1582995600@www.sportmanawatu.org.nz
SUMMARY:Ethkick 2020
DESCRIPTION:Ethkick – “Promoting a Positive Image of Friendship through Football” \nEthkick is a FREE 6-aside football tournament that celebrates cultural diversity and community involvement. Ethkick 2020 is also proud to be ‘kicking off’ the 2020 Festival of Cultures\, in association with the Manawatu Multi-cultural Council and Palmerston North City Council. \nThrough a one day football tournament Ethkick 2020 promotes social cohesion\, and community involvement for the many ethnic groups in Palmerston North. \nThis is a FREE 6-a-side football tournament and is limited to 40 teams – so get in and register your team now! \nThe age limit for Ethkick is 14 years and over. \nThere will be a managers/captains meeting on THURSDAY  27  February\, 5.30pm at the Marist Clubrooms   \nA representative from your team MUST attend this meeting or your team will be replaced by one on the waiting list.  \nReminder that all players MUST be residents of Palmerston North \nPLEASE READ THE RULES BEFORE ENTERING \n  \n	\n		\n		\n\n		\n	\n		\n		If you are a human and are seeing this field\, please leave it blank.			\n			\n		\n	\n		\n		IMPORTANT - Due to limited team numbers\, Ethkick is for Palmerston North / Manawatu residents only. \nTeams may have no more than two players who play in the Central Football League Western Premier and above. \n\n							\n							\n		Team Name 				\n			\n		\n		\n							\n												\n							\n		Team Captain Name 				\n			\n		\n		\n							\n												\n							\n		Team Captain Email 				\n			\n		\n		\n							\n												\n							\n		Team Captain Phone  				\n			\n		\n		\n							\n												\n							\n		What Ethnicity does your team represent?  				\n			\n		\n		\n							\n							Team Colours\n							\n							\n		Shirts 				\n			\n		\n		\n							\n												\n							\n		Shorts 				\n			\n		\n		\n							\n												\n							\n		Socks 				\n			\n		\n		\n							\n							\n							\n							\n		Team member name 1 				\n			\n		\n		\n							\n												\n							\n		This player resides in the Manawatu 				\n			\n		\n							\n												\n							\n		\n				Currently Plays 				\n											No Organised Football\n									Social Football \n									Summer Soccer\n									Club Football\n							\n				\n		\n							\n							\n							\n							\n		Team member name 2 				\n			\n		\n		\n							\n												\n							\n		This player resides in the Manawatu 				\n			\n		\n							\n												\n							\n		\n				Currently Plays 				\n											No Organised Football\n									Social Football \n									Summer Soccer\n									Club Football\n							\n				\n		\n							\n							\n							\n							\n		Team member name 3 				\n			\n		\n		\n							\n												\n							\n		This player resides in the Manawatu 				\n			\n		\n							\n												\n							\n		\n				Currently Plays 				\n											No Organised Football\n									Social Football \n									Summer Soccer\n									Club Football\n							\n				\n		\n							\n							\n							\n							\n		Team member name 4 				\n			\n		\n		\n							\n												\n							\n		This player resides in the Manawatu 				\n			\n		\n							\n												\n							\n		\n				Currently Plays 				\n											No Organised Football\n									Social Football \n									Summer Soccer\n									Club Football\n							\n				\n		\n							\n							\n							\n							\n		Team member name 5 				\n			\n		\n		\n							\n												\n							\n		This player resides in the Manawatu 				\n			\n		\n							\n												\n							\n		\n				Currently Plays 				\n											No Organised Football\n									Social Football \n									Summer Soccer\n									Club Football\n							\n				\n		\n							\n							\n							\n							\n		Team member name 6 				\n			\n		\n		\n							\n												\n							\n		This player resides in the Manawatu 				\n			\n		\n							\n												\n							\n		\n				Currently Plays 				\n											No Organised Football\n									Social Football \n									Summer Soccer\n									Club Football\n							\n				\n		\n							\n							\n							\n							\n		Team member name 7 				\n			\n		\n		\n							\n												\n							\n		This player resides in the Manawatu 				\n			\n		\n							\n												\n							\n		\n				Currently Plays 				\n											No Organised Football\n									Social Football \n									Summer Soccer\n									Club Football\n							\n				\n		\n							\n							\n							\n							\n		Team member name 8 				\n			\n		\n		\n							\n												\n							\n		This player resides in the Manawatu 				\n			\n		\n							\n												\n							\n		\n				Currently Plays 				\n											No Organised Football\n									Social Football \n									Summer Soccer\n									Club Football\n							\n				\n		\n							\n							\n							\n							\n		Team member name 9 				\n			\n		\n		\n							\n												\n							\n		This player resides in the Manawatu 				\n			\n		\n							\n												\n							\n		\n				Currently Plays 				\n											No Organised Football\n									Social Football \n									Summer Soccer\n									Club Football\n							\n				\n		\n							\n							\n							\n							\n		Team member name 10 				\n			\n		\n		\n							\n												\n							\n		This player resides in the Manawatu 				\n			\n		\n							\n												\n							\n		\n				Currently Plays 				\n											No Organised Football\n									Social Football \n									Summer Soccer\n									Club Football\n							\n				\n		\n							\n							\n							\n							\n		Our team agrees to abide by the Ethkick rules of participation. *				\n			\n		\n							\n												\n							\n	\n		\n	\n	\n		\n	\n		\n		\n							\n							\n		\n		\n		\n	\n
URL:https://www.sportmanawatu.org.nz/event/ethkick2020/
LOCATION:Arena Manawatu\, 61 Pascal Street\, Palmerston North\, Manawatu\, 4410\, New Zealand
CATEGORIES:Supported Events
ATTACH;FMTTYPE=image/jpeg:https://www.sportmanawatu.org.nz/wp-content/uploads/2019/11/ethkick.jpg
ORGANIZER;CN="Ethkick":MAILTO:bandmshiva@gmail.com
END:VEVENT
BEGIN:VEVENT
DTSTART;TZID="Pacific/Auckland":20200229T090000
DTEND;TZID="Pacific/Auckland":20200229T150000
DTSTAMP:20191217T153453
CREATED:20191205T202625Z
LAST-MODIFIED:20191205T203846Z
UID:34472-1582966800-1582988400@www.sportmanawatu.org.nz
SUMMARY:Ethsport 'Give it a Go'
DESCRIPTION:To help celebrate the Festival of Cultures month and partnering with Ethkick 2020\, we invite women and children to this community activity organised by the Manawatu Multicultural Council. \nAll activities are free! \n\nNetball\nTable tennis\nVolleyball\nBadminton\nFutsal\nSkate Boarding\n\nThere will be activities available for children under the age of 5 years too. \nWhat to bring: Sport shoes\, drink bottle and a positive attitude \nVenue: B&M Centre – CET Arena\, Palmerston North \n
URL:https://www.sportmanawatu.org.nz/event/ethsport-give-it-a-go/
LOCATION:CET Arena\, 61 Pascal Street\, Palmerston North\, Manawatu\, New Zealand
CATEGORIES:Supported Events
ATTACH;FMTTYPE=image/jpeg:https://www.sportmanawatu.org.nz/wp-content/uploads/2019/12/ethsport-sm-event-webpage-banner.jpg
ORGANIZER;CN="Manawatu%20Multicultural%20Council":MAILTO:info@mmcnz.org.nz
END:VEVENT
BEGIN:VEVENT
DTSTART;TZID="Pacific/Auckland":20200302T163000
DTEND;TZID="Pacific/Auckland":20200302T200000
DTSTAMP:20191217T153453
CREATED:20191128T230333Z
LAST-MODIFIED:20191128T230333Z
UID:34406-1583166600-1583179200@www.sportmanawatu.org.nz
SUMMARY:Crank It Specialised I Tri'd the Tri Series
DESCRIPTION:The Crank It Specialised I Tri’d the Tri Series is for kids 4 – 12 years old. \nThe series dates are (all Monday’s):\n10 Feb\n17 Feb\n24 Feb\n2 Mar\n9 Mar \nRegister here \nCOURSE DISTANCES\n4-6 years 300 m run / 600 m cycle / 1 length swim*\n7 year olds 750 m run / 1.5 km cycle / 25 m swim\n8-9 years 750 m run / 1.5 km cycle / 50 m swim\n10-12 years 1.5 km run / 3 km cycle / 100 m swim\n*Freyberg indoor teaching pool. \n  \nAll event info is on the Manawatu Triathlon Club website. \nTo find out more please call Andy & Lenka 021 0349989 or Deb 027 4390651 \n
URL:https://www.sportmanawatu.org.nz/event/crank-it-specialised-i-trid-the-tri-series/2020-03-02/
LOCATION:Skoglund Park\, Thames Street\, Roslyn\, Palmerston North\, 4414\, New Zealand
CATEGORIES:Supported Events
ATTACH;FMTTYPE=image/jpeg:https://www.sportmanawatu.org.nz/wp-content/uploads/2019/11/Kids-Tri-Poster-2.jpg
END:VEVENT
BEGIN:VEVENT
DTSTART;TZID="Pacific/Auckland":20200306T163000
DTEND;TZID="Pacific/Auckland":20200306T200000
DTSTAMP:20191217T153453
CREATED:20191128T230333Z
LAST-MODIFIED:20191128T230333Z
UID:34407-1583512200-1583524800@www.sportmanawatu.org.nz
SUMMARY:Crank It Specialised I Tri'd the Tri Series
DESCRIPTION:The Crank It Specialised I Tri’d the Tri Series is for kids 4 – 12 years old. \nThe series dates are (all Monday’s):\n10 Feb\n17 Feb\n24 Feb\n2 Mar\n9 Mar \nRegister here \nCOURSE DISTANCES\n4-6 years 300 m run / 600 m cycle / 1 length swim*\n7 year olds 750 m run / 1.5 km cycle / 25 m swim\n8-9 years 750 m run / 1.5 km cycle / 50 m swim\n10-12 years 1.5 km run / 3 km cycle / 100 m swim\n*Freyberg indoor teaching pool. \n  \nAll event info is on the Manawatu Triathlon Club website. \nTo find out more please call Andy & Lenka 021 0349989 or Deb 027 4390651 \n
URL:https://www.sportmanawatu.org.nz/event/crank-it-specialised-i-trid-the-tri-series/2020-03-06/
LOCATION:Skoglund Park\, Thames Street\, Roslyn\, Palmerston North\, 4414\, New Zealand
CATEGORIES:Supported Events
ATTACH;FMTTYPE=image/jpeg:https://www.sportmanawatu.org.nz/wp-content/uploads/2019/11/Kids-Tri-Poster-2.jpg
END:VEVENT
BEGIN:VEVENT
DTSTART;TZID="Pacific/Auckland":20200309T163000
DTEND;TZID="Pacific/Auckland":20200309T200000
DTSTAMP:20191217T153453
CREATED:20191128T230333Z
LAST-MODIFIED:20191128T230333Z
UID:34408-1583771400-1583784000@www.sportmanawatu.org.nz
SUMMARY:Crank It Specialised I Tri'd the Tri Series
DESCRIPTION:The Crank It Specialised I Tri’d the Tri Series is for kids 4 – 12 years old. \nThe series dates are (all Monday’s):\n10 Feb\n17 Feb\n24 Feb\n2 Mar\n9 Mar \nRegister here \nCOURSE DISTANCES\n4-6 years 300 m run / 600 m cycle / 1 length swim*\n7 year olds 750 m run / 1.5 km cycle / 25 m swim\n8-9 years 750 m run / 1.5 km cycle / 50 m swim\n10-12 years 1.5 km run / 3 km cycle / 100 m swim\n*Freyberg indoor teaching pool. \n  \nAll event info is on the Manawatu Triathlon Club website. \nTo find out more please call Andy & Lenka 021 0349989 or Deb 027 4390651 \n
URL:https://www.sportmanawatu.org.nz/event/crank-it-specialised-i-trid-the-tri-series/2020-03-09/
LOCATION:Skoglund Park\, Thames Street\, Roslyn\, Palmerston North\, 4414\, New Zealand
CATEGORIES:Supported Events
ATTACH;FMTTYPE=image/jpeg:https://www.sportmanawatu.org.nz/wp-content/uploads/2019/11/Kids-Tri-Poster-2.jpg
END:VEVENT
BEGIN:VEVENT
DTSTART;TZID="Pacific/Auckland":20200320T174500
DTEND;TZID="Pacific/Auckland":20200320T230000
DTSTAMP:20191217T153453
CREATED:20191105T193712Z
LAST-MODIFIED:20191118T003124Z
UID:34160-1584726300-1584745200@www.sportmanawatu.org.nz
SUMMARY:Central Energy Trust Manawatu Sports Awards
DESCRIPTION:The Central Energy Trust Manawatu Sports Awards is our region’s most prestigious and highly anticipated sporting awards ceremony.  The awards seek to honour and celebrate Manawatu’s highest achieving sports stars. \nThis years Central Energy Trust\, Manawatu Sports Awards was held on Friday 20th March\, at Central Energy Trust Arena\, Arena4. \n.fusion-button.button-1 .fusion-button-text\, .fusion-button.button-1 i {color:#ffffff;}.fusion-button.button-1 {border-width:0px;border-color:#ffffff;}.fusion-button.button-1 .fusion-button-icon-divider{border-color:#ffffff;}.fusion-button.button-1:hover .fusion-button-text\, .fusion-button.button-1:hover i\,.fusion-button.button-1:focus .fusion-button-text\, .fusion-button.button-1:focus i\,.fusion-button.button-1:active .fusion-button-text\, .fusion-button.button-1:active{color:#ffffff;}.fusion-button.button-1:hover\, .fusion-button.button-1:focus\, .fusion-button.button-1:active{border-width:0px;border-color:#ffffff;}.fusion-button.button-1:hover .fusion-button-icon-divider\, .fusion-button.button-1:hover .fusion-button-icon-divider\, .fusion-button.button-1:active .fusion-button-icon-divider{border-color:#ffffff;}.fusion-button.button-1{width:auto;}Submit a Nomination\n
URL:https://www.sportmanawatu.org.nz/event/central-energy-trust-manawatu-sports-awards/
LOCATION:Arena Manawatu\, 61 Pascal Street\, Palmerston North\, Manawatu\, 4410\, New Zealand
CATEGORIES:Sport Manawatu,Sports Awards
ATTACH;FMTTYPE=image/jpeg:https://www.sportmanawatu.org.nz/wp-content/uploads/2018/01/MSA-feature.jpg
ORGANIZER;CN="Sport%20Manawatu":MAILTO:events@sportmanawatu.org.nz
END:VEVENT
BEGIN:VEVENT
DTSTART;VALUE=DATE:20200323
DTEND;VALUE=DATE:20200330
DTSTAMP:20191217T153453
CREATED:20191126T015146Z
LAST-MODIFIED:20191126T235929Z
UID:34369-1584921600-1585526399@www.sportmanawatu.org.nz
SUMMARY:Everyone Active Festival
DESCRIPTION:Let’s inspire our community to be physically active for life. The “Everyone Active Festival” will be divided into two parts: \n\n“Have a Go” opportunities\n\nActive recreation and sport taster sessions hosted by providers in community venues\, like clubs\, parks and other “places to play”.\nMonday 23 – Friday 28 March\n\n\nEveryone Active Festival and Marketplace\n\nSunday 29 March\, Noon – 4pm\nRailway Reserve\, Palmerston North\n\n\n\nRSOs\, clubs\, and sport and active recreation providers that participate in the ‘Have a Go’ component can have a marketplace stall. The marketplace offers you the opportunity to promote your activity\, sell merchandise or provide information about your group. \nIf you would like to contribute to the spot prizes (e.g. piece of equipment\, free sessions with a coach\, free group sessions\, free membership\, etc.) let us know! \nMarketplace stalls are limited. Register before 31 January to secure your spot!  \n  \nRegister your active recreation or sport group to participate in the Everyone Active Festival below:\n	\n		\n		\n\n		\n	\n		\n		If you are a human and are seeing this field\, please leave it blank.			\n			\n		\n	\n		\n							\n							\n	\n			\n			\n		\n							\n												\n							\n	\n			\n			\n		\n							\n												\n							\n	\n			\n			\n		\n							\n												\n							\n	\n			\n			\n		\n							\n												\n							\n	\n			\n			\n		\n							\n							Festival Options\n\n							\n							\n		Host a 'Have a Go' experience between 23-28 March 				\n			\n		\n							\n												\n							\n		Everyone Active Festival 1-day event: Sun 29 Mar 				\n			\n		\n							\n												\n							\n		\n				Age Group *				\n		7 and Under8-1314-1818+\n				\n		\n							\n							'Have a Go' Session Information\n\n							\n							\n		'Have a Go' session date (between 23-28 March) 				\n			\n		\n		\n							\n												\n							\n		'Have a Go' session time 				\n			\n		\n		\n							\n												\n							\n		'Have a Go' session location 				\n			\n		\n		\n							\n												\n							\n		Describe the activity for the 'Have a Go' session 				\n			\n		\n		\n							\n							Marketplace - Sunday 29 March\n\n		Your organisation wants to: \n\n							\n							\n		Have a Stall 				\n			\n		\n							\n												\n							\n		Contribute to the Spot Prizes 				\n			\n		\n							\n												\n							\n		Describe the activity for the marketplace (demonstration\, competition\, fundamentals\, etc) 				\n			\n		\n		\n							\n												\n							\n	\n		\n	\n	\n		\n	\n		\n		\n							\n							\n		\n		\n		\n	\n
URL:https://www.sportmanawatu.org.nz/event/everyone-active-festival/
LOCATION:Sport Manawatu\, 47 Queen Street\, Palmerston North\, 4410\, New Zealand
CATEGORIES:Sport Manawatu
ATTACH;FMTTYPE=image/jpeg:https://www.sportmanawatu.org.nz/wp-content/uploads/2019/11/standard_1500x1125_KidsRunning.jpg
ORGANIZER;CN="Sport%20Manawatu":MAILTO:events@sportmanawatu.org.nz
END:VEVENT
END:VCALENDAR